BEGIN:VCALENDAR
VERSION:2.0
PRODID:-//Goolarri Media - ECPv6.15.20//NONSGML v1.0//EN
CALSCALE:GREGORIAN
METHOD:PUBLISH
X-WR-CALNAME:Goolarri Media
X-ORIGINAL-URL:https://old.goolarri.com
X-WR-CALDESC:Events for Goolarri Media
REFRESH-INTERVAL;VALUE=DURATION:PT1H
X-Robots-Tag:noindex
X-PUBLISHED-TTL:PT1H
BEGIN:VTIMEZONE
TZID:Asia/Shanghai
BEGIN:STANDARD
TZOFFSETFROM:+0800
TZOFFSETTO:+0800
TZNAME:CST
DTSTART:20230101T000000
END:STANDARD
END:VTIMEZONE
BEGIN:VEVENT
DTSTART;TZID=Asia/Shanghai:20240504T190000
DTEND;TZID=Asia/Shanghai:20240505T190000
DTSTAMP:20260421T112009
CREATED:20240325T020218Z
LAST-MODIFIED:20240325T021152Z
UID:6199-1714849200-1714935600@old.goolarri.com
SUMMARY:Kimberley Blak Pride Extravaganza!
DESCRIPTION:PRESENTED BY KIMBERLEY BLAK PRIDE AND GOOLARRI MEDIA ENTERPRISES\n\nThe inaugural Kimberley Blak Pride Extravaganza was so good we’re back for seconds with more glitz\, glamour and Queer Blak joy!\nShowcasing our best First Nations Drag Queens\, Drag Kings\, DJs\, musos and performers in the transformed Goolarri Amphitheatre! Dance the night away with epic sets\, outrageous outfits and that special Kimberley spirit.\n\nYou won’t want to miss this party!!!\n\nLimited tickets on sale now! $50.
URL:https://old.goolarri.com/upcoming/kimberley-blak-pride-extravaganza-2/
LOCATION:Goolarri Amphitheatre\, 3 Blackman Street\, Broome\, WA\, 6725\, Australia
CATEGORIES:Kimberley Blak Pride Festival
ATTACH;FMTTYPE=image/jpeg:https://old.goolarri.com/wp-content/uploads/2024/03/432357340_373211498968443_6389890038605340296_n.jpg
END:VEVENT
BEGIN:VEVENT
DTSTART;TZID=Asia/Shanghai:20240503T080000
DTEND;TZID=Asia/Shanghai:20240503T170000
DTSTAMP:20260421T112009
CREATED:20240325T015953Z
LAST-MODIFIED:20240422T044145Z
UID:6196-1714723200-1714755600@old.goolarri.com
SUMMARY:Out and Proud Symposium
DESCRIPTION:Join Queer change makers\, community leaders\, researchers\, LGBTIQA+ Aboriginal community organisations and industry peak bodies for the inaugural ‘Out and Proud Symposium’ speaking to the experiences and needs of Kimberley Aboriginal and/or Torres Strait Islander LGBTIQA+ mob.\n\nWith an appearance from Mizz Ida-ho Mo.\n\nThis event will also be Live Streamed.\n\nA copy of the program can be found HERE\n\nRegistrations essential.\n \n\n 
URL:https://old.goolarri.com/upcoming/out-and-proud-symposium/
LOCATION:Gimme Club\, Goolarri Media 7 Blackman Street\, Broome\, WA\, 6725\, Australia
CATEGORIES:Kimberley Blak Pride Festival
ATTACH;FMTTYPE=image/jpeg:https://old.goolarri.com/wp-content/uploads/2024/03/432058370_372773622345564_6889621327189520460_n.jpg
END:VEVENT
BEGIN:VEVENT
DTSTART;TZID=Asia/Shanghai:20240502T190000
DTEND;TZID=Asia/Shanghai:20240502T220000
DTSTAMP:20260421T112009
CREATED:20240325T015747Z
LAST-MODIFIED:20240325T021142Z
UID:6193-1714676400-1714687200@old.goolarri.com
SUMMARY:Blak Balls Drag Bingo
DESCRIPTION:SOLD OUT – check back closer to the day to see if more tix become available\n\nThe undisputed Queen of Kimberley Blak Pride\, Mizz Ida-Ho Mo is back for a night of outrageous Queer Blak Kimberley humour\, maybe some bingo and if you’re lucky fabulous drag.\nGrab your posse and buy your tickets – great prizes to be won!\n\nVery limited tickets. $15.00.
URL:https://old.goolarri.com/upcoming/blak-balls-drag-bingo/
LOCATION:Gimme Club\, Goolarri Media 7 Blackman Street\, Broome\, WA\, 6725\, Australia
CATEGORIES:Kimberley Blak Pride Festival
ATTACH;FMTTYPE=image/jpeg:https://old.goolarri.com/wp-content/uploads/2024/03/431928618_372768075679452_5904041543783691989_n.jpg
END:VEVENT
BEGIN:VEVENT
DTSTART;TZID=Asia/Shanghai:20240501T183000
DTEND;TZID=Asia/Shanghai:20240501T210000
DTSTAMP:20260421T112009
CREATED:20240325T015448Z
LAST-MODIFIED:20240325T021140Z
UID:6190-1714588200-1714597200@old.goolarri.com
SUMMARY:First Nation's Queer Movies Under the Stars
DESCRIPTION:The best of Australian and International First Nations Queer cinema comes to Broome for one night of entertainment under the stars.\n\nThe line-up includes Australia’s ‘Marungka Tjalatjunu (Dipped in Black)’\, winner of both best short film and the audience award at My Queer Career; ‘Blakfellas Who Can’t Dance’; ‘Sparkles’; plus international shorts ‘Kapaemahu’ (Hawaii); ‘This is the Way We Rise’ (Hawaii); ‘The Rogers’ (Samoa); and ‘Tuullik’ (Greenland)\n\n\nThis event is FREE.
URL:https://old.goolarri.com/upcoming/first-nations-queer-movies-under-the-stars/
LOCATION:Goolarri Amphitheatre\, 3 Blackman Street\, Broome\, WA\, 6725\, Australia
CATEGORIES:Kimberley Blak Pride Festival
ATTACH;FMTTYPE=image/jpeg:https://old.goolarri.com/wp-content/uploads/2024/03/431972921_372765389013054_6984786102604049662_n.jpg
END:VEVENT
BEGIN:VEVENT
DTSTART;TZID=Asia/Shanghai:20240430T190000
DTEND;TZID=Asia/Shanghai:20240430T220000
DTSTAMP:20260421T112009
CREATED:20240325T015220Z
LAST-MODIFIED:20240325T020331Z
UID:6187-1714503600-1714514400@old.goolarri.com
SUMMARY:Still Here\, Still Queer: Blak Loud and Proud
DESCRIPTION:Bobbie and Skye Lockyer’s groundbreaking fashion showcase is an ode to diversity\, identity\, and unapologetic self-expression.\n\nJoin us for an electrifying runway experience\, where First Nations Queer fashion designers and SBLGBTQIA+ allies Nagula Jarndu Women’s Centre take centre stage\, seamlessly blending traditional elements with contemporary flair.\n\nBe prepared to witness a fusion of cultural heritage and cutting-edge fashion\, a celebration of individuality\, and a vibrant display of Queer Indigenous creativity at Kimberley Blak Pride Festival.\n\nThey are family coming home!!!\n\nThis event is FREE.
URL:https://old.goolarri.com/upcoming/still-here-still-queer-blak-loud-and-proud/
LOCATION:Goolarri Amphitheatre\, 3 Blackman Street\, Broome\, WA\, 6725\, Australia
CATEGORIES:Kimberley Blak Pride Festival
ATTACH;FMTTYPE=image/jpeg:https://old.goolarri.com/wp-content/uploads/2024/03/432044903_372762815679978_5466915235211537288_n.jpg
END:VEVENT
BEGIN:VEVENT
DTSTART;TZID=Asia/Shanghai:20240429T190000
DTEND;TZID=Asia/Shanghai:20240429T220000
DTSTAMP:20260421T112009
CREATED:20240325T014821Z
LAST-MODIFIED:20240402T055955Z
UID:6182-1714417200-1714428000@old.goolarri.com
SUMMARY:Queerokie
DESCRIPTION:Join our hosts Margie and Jaz for a night where a star or two will be born.\n\nHit all the notes of the rainbow at Broome’s most fabulous karaoke event. Strike a pose\, warm up those vocals and belt out your favourite hits with all your friends. Coveted prizes to be won!!!\n\nVery limited tickets.\n\n$15 entry.
URL:https://old.goolarri.com/upcoming/queerokie/
LOCATION:Gimme Club\, Goolarri Media 7 Blackman Street\, Broome\, WA\, 6725\, Australia
CATEGORIES:Kimberley Blak Pride Festival
ATTACH;FMTTYPE=image/jpeg:https://old.goolarri.com/wp-content/uploads/2024/03/430680022_372760539013539_8138128417989733374_n.jpg
END:VEVENT
BEGIN:VEVENT
DTSTART;TZID=Asia/Shanghai:20240428T180000
DTEND;TZID=Asia/Shanghai:20240428T210000
DTSTAMP:20260421T112009
CREATED:20240402T070829Z
LAST-MODIFIED:20240402T071036Z
UID:6207-1714327200-1714338000@old.goolarri.com
SUMMARY:Kimberley Blak Pride Spoken Word
DESCRIPTION:Magabala creators\, Broome Queer storytellers and community heroes all take to the mic to share new work\, personal stories and that special Blak Queer joy.\nExpect to be moved\, to share laughter and to catch a glimpse into the profound connections forged with culture\, family\, and place.\n\nYou can sign-up on the night\, or email media@magabala.com if you’d like to take part. The KBP Spoken Word is open to all community members.\nThis event is FREE.\n\nThis project was made possible by the Australian Government Regional Arts Fund\, which supports the arts in regional and remote Australia.
URL:https://old.goolarri.com/upcoming/kimberley-blak-pride-spoken-word/
LOCATION:Gimme Club\, Goolarri Media 7 Blackman Street\, Broome\, WA\, 6725\, Australia
CATEGORIES:Kimberley Blak Pride Festival
ATTACH;FMTTYPE=image/jpeg:https://old.goolarri.com/wp-content/uploads/2024/04/431917935_807469094755921_6685764349902765290_n-e1712041821992.jpg
END:VEVENT
BEGIN:VEVENT
DTSTART;TZID=Asia/Shanghai:20240428T163000
DTEND;TZID=Asia/Shanghai:20240428T180000
DTSTAMP:20260421T112009
CREATED:20240325T014040Z
LAST-MODIFIED:20240325T020731Z
UID:6179-1714321800-1714327200@old.goolarri.com
SUMMARY:Writing Blak and Queer Panel
DESCRIPTION:Join some of Australia’s most successful First Nations Queer writers and illustrators as they share intimate portraits of their careers\, the stories and people that inspired them and the power of Blak Queer creativity.\n\nThis event is FREE.\n\nThis event will be followed by the Kimberley Blak Pride Spoken Word. Open to the public from 6:00pm\n\nThis project was made possible by the Australian Government Regional Arts Fund\, which supports the arts in regional and remote Australia.
URL:https://old.goolarri.com/upcoming/writing-blak-and-queer-panel/
LOCATION:Gimme Club\, Goolarri Media 7 Blackman Street\, Broome\, WA\, 6725\, Australia
CATEGORIES:Kimberley Blak Pride Festival
ATTACH;FMTTYPE=image/jpeg:https://old.goolarri.com/wp-content/uploads/2024/03/432717305_807466828089481_4631417742664881022_n.jpg
END:VEVENT
BEGIN:VEVENT
DTSTART;TZID=Asia/Shanghai:20240427T183000
DTEND;TZID=Asia/Shanghai:20240427T210000
DTSTAMP:20260421T112009
CREATED:20240325T013853Z
LAST-MODIFIED:20240325T013853Z
UID:6176-1714242600-1714251600@old.goolarri.com
SUMMARY:Kimberley Blak Pride Official Opening Ceremony
DESCRIPTION:We will officially Welcome to Country our Kimberley Queer Blak mob to the start of our historic festival\, together with our families\, friends\, allies\, community organisations and businesses from across the Kimberley and Australia.\n\nThere will be music and dancing\, food vans\, kids activities\, bespoke arts and crafts\, stalls\, glitter face painting and some awesome door prizes. A truly community event – ALL WELCOME!!!\n\nThis event is FREE.
URL:https://old.goolarri.com/upcoming/kimberley-blak-pride-official-opening-ceremony/
LOCATION:Goolarri Amphitheatre\, 3 Blackman Street\, Broome\, WA\, 6725\, Australia
CATEGORIES:Kimberley Blak Pride Festival
ATTACH;FMTTYPE=image/jpeg:https://old.goolarri.com/wp-content/uploads/2024/03/431988532_372756515680608_151572946778541868_n.jpg
END:VEVENT
BEGIN:VEVENT
DTSTART;TZID=Asia/Shanghai:20240427T163000
DTEND;TZID=Asia/Shanghai:20240427T180000
DTSTAMP:20260421T112009
CREATED:20240308T054055Z
LAST-MODIFIED:20240325T020619Z
UID:6162-1714235400-1714240800@old.goolarri.com
SUMMARY:Out and Proud Kimberley Blak Pride Parade
DESCRIPTION:An historic event\, as never before in Broome\, in the Kimberley has a Queer Rainbow Parade been held.  Proudly led by our First Nations Elders and less abled mob\, join our SBLGBTIQA+ mob\, our families\, our friends\, our allies and community organisations and businesses in this historic walk.  Be on the right side of history!!! \n  \nRegistration required for organisation and businesses to march in the parade.  Individuals are not required to register. \n  \nTo register your organisation\, go to: https://old.goolarri.com/ninja-forms/17s84d
URL:https://old.goolarri.com/upcoming/out-and-proud-kimberley-blak-pride-parade/
LOCATION:Town Beach\, Northern Town Beach Carpark on Hamersley St\, Broome\, WA\, 6725\, Australia
CATEGORIES:Kimberley Blak Pride Festival
ATTACH;FMTTYPE=image/jpeg:https://old.goolarri.com/wp-content/uploads/2024/03/431955433_372774315678828_2864231884489572861_n.jpg
END:VEVENT
END:VCALENDAR